BEGIN:VCALENDAR
VERSION:2.0
PRODID:-//wp-events-plugin.com//7.1.2//EN
BEGIN:VEVENT
UID:1@ccecol.org
DTSTART:20241206T120000Z
DTEND:20241206T170000Z
DTSTAMP:20250403T140818Z
URL:https://ccecol.org/events/lxiv-encuentro-comite-decumplimiento-empresa
 rial-colombiano/
SUMMARY:LXIV ENCUENTRO COMITÉ DECUMPLIMIENTO EMPRESARIAL COLOMBIANO
DESCRIPTION:Todo listo para nuestro último encuentro de 2024 y una súper 
 noticia para los hinchas del Atlético Nacional\, estaremos conociendo las
  instalaciones del equipo y hasta de pronto nos topamos con algún ídolo!
 \n\nNos vemos el viernes muy AM\, gracias a Club Atlético Nacional por ab
 rirnos las puertas para despedir este 2024\n\nNOTA:\n\nTarifa plena + IVA 
 incluido\n\n&nbsp\;
ATTACH;FMTTYPE=image/jpeg:https://i0.wp.com/ccecol.org/wp-content/uploads/
 2024/12/2024-12-16_15-40-56.png?fit=975%2C521&ssl=1
LOCATION:Sede Deportiva Atlético Nacional\, Guarne\, Guarne\, Antioquia\, 
 Colombia
X-APPLE-STRUCTURED-LOCATION;VALUE=URI;X-ADDRESS=Guarne\, Guarne\, Antioquia
 \, Colombia;X-APPLE-RADIUS=100;X-TITLE=Sede Deportiva Atlético Nacional:g
 eo:0,0
END:VEVENT
END:VCALENDAR