BEGIN:VCALENDAR
VERSION:2.0
PRODID:-//wp-events-plugin.com//7.1.2//EN
BEGIN:VEVENT
UID:6@ccecol.org
DTSTART:20250403T140000Z
DTEND:20250405T140000Z
DTSTAMP:20250403T144536Z
URL:https://ccecol.org/events/invitacion-a-capacitacion-contratos-nec-y-fi
 dic-herramientas-clave-para-la-gestion-de-riesgos-empresariales/
SUMMARY:Invitación a Capacitación: Contratos NEC y FIDIC – Herramientas
  Clave para la Gestión de Riesgos Empresariales
DESCRIPTION:Estimados miembros del Comité de Cumplimiento de Riesgos Empre
 sariales\,\nEs un placer invitarlos a participar en nuestra Capacitación
  Especializada sobre Contratos NEC y FIDIC\, diseñada para brindarles las
  herramientas necesarias para optimizar la gestión contractual y mitigar 
 riesgos en sus operaciones empresariales.\nEn un entorno empresarial cada 
 vez más complejo y competitivo\, la implementación de contratos eficient
 es y adaptables es fundamental para garantizar el éxito de los proyectos.
  Los contratos NEC (New Engineering Contract) y FIDIC (Fédération Intern
 ationale des Ingénieurs-Conseils) se han posicionado como estándares int
 ernacionales que promueven la colaboración\, la transparencia y la gesti
 ón proactiva de riesgos\, aspectos clave para el cumplimiento de los obje
 tivos empresariales.\n¿Por qué asistir?\n\n\n 	Conocer las mejores prác
 ticas en la implementación de contratos NEC y FIDIC.\n 	Aprender a gesti
 onar riesgos de manera efectiva\, reduciendo costos y evitando disputas.\
 n 	Fortalecer la competitividad de su empresa mediante la adopción de es
 tándares internacionales.\n 	Interactuar con expertos en la materia y co
 mpartir experiencias con otras empresas afiliadas.\n\nDetalles del Evento:
 \n\n\n 	Fecha: Miércoles 25 de octubre de 2023\n 	Hora: 9:00 a.m. – 1
 :00 p.m.\n 	Lugar: Salón de Eventos "Torre Empresarial"\, Av. Principal 
 #123\, Ciudad.\n 	Expositores:\n\n 	Ing. Carlos Méndez\, Especialista en 
 Contratos NEC con más de 15 años de experiencia en gestión de proyectos
  internacionales.\n 	Dra. Laura Fernández\, Consultora Legal en Contratos
  FIDIC y experta en resolución de disputas contractuales.\n\n\n\nAgenda:\
 n\n\n 	9:00 a.m. – Registro y bienvenida.\n 	9:30 a.m. – Introducción
  a los contratos NEC y FIDIC: Beneficios y aplicaciones prácticas.\n 	10:
 30 a.m. – Casos de éxito: Implementación en proyectos nacionales e int
 ernacionales.\n 	11:30 a.m. – Coffee Break.\n 	12:00 p.m. – Taller pr
 áctico: Análisis de cláusulas clave y gestión de riesgos.\n 	1:00 p.m.
  – Cierre y entrega de certificados de participación.\n\n¡No pierdan e
 sta oportunidad de fortalecer sus conocimientos y llevar la gestión de ri
 esgos de su empresa al siguiente nivel!\nRegístrese y confirmen su asiste
 ncia antes del 20 de octubre a través del siguiente vinculo. Cupos limi
 tados.\nEsperamos contar con su presencia en este espacio de aprendizaje y
  networking\, donde juntos podremos impulsar la excelencia en la gestión 
 contractual y el cumplimiento de riesgos empresariales.\n[wpforms id="1265
 " title="false"]\nPara modalidad virtual\, acceda dando clic a la imagen d
 e Teams el día 03/04/2025.\n&nbsp\;\n\n\n¡Lo esperamos!
ATTACH;FMTTYPE=image/jpeg:https://i0.wp.com/ccecol.org/wp-content/uploads/
 2025/03/imagen1-e1741813920759.jpeg?fit=500%2C180&ssl=1
END:VEVENT
END:VCALENDAR