BEGIN:VCALENDAR
VERSION:2.0
PRODID:-//wp-events-plugin.com//7.1.2//EN
BEGIN:VEVENT
UID:2@ccecol.org
DTSTART:20250213T120000Z
DTEND:20250214T170000Z
DTSTAMP:20250213T193741Z
URL:https://ccecol.org/events/dia-internacional-de-la-corrupcion/
SUMMARY:Día Internacional de la corrupción (Público)
DESCRIPTION:Hoy desde el Auditorio Servir de Empresas Públicas de Medellí
 n - EPM Conmemoramos el Día Internacional contra la corrupción en colabo
 ración con la UNODC\n\nHoy nos reunimos para hablar de una sombra que ha 
 oscurecido la esperanza y el progreso en Colombia y en tantos rincones del
  mundo: la corrupción. Esta palabra no es solo una acusación o un titula
 r. Es el reflejo de promesas rotas\, de derechos negados\, y de sueños qu
 e nunca se cumplieron.\n\nActualmente tenemos herramientas poderosas: la e
 ducación\, para formar generaciones conscientes y éticas\; la tecnologí
 a\, para vigilar y prevenir abusos\; y\, sobre todo\, nuestra voz\, que nu
 nca debe callar frente a las injusticias.\n\nNos corresponde determinar nu
 estro papel en la sociedad y como aportar desde lo individual y colectivo 
 para crear cultura.
ATTACH;FMTTYPE=image/jpeg:https://i0.wp.com/ccecol.org/wp-content/uploads/
 2024/12/2024-12-16_15-08-10-1.png?fit=1721%2C451&ssl=1
LOCATION:Auditorio Servir de Empresas Públicas de Medellín -EPM\, Auditor
 io Servir de Empresas Públicas de Medellín -EPM\, Medellín\, Antioquia\
 , Colombia
X-APPLE-STRUCTURED-LOCATION;VALUE=URI;X-ADDRESS=Auditorio Servir de Empresa
 s Públicas de Medellín -EPM\, Medellín\, Antioquia\, Colombia;X-APPLE-R
 ADIUS=100;X-TITLE=Auditorio Servir de Empresas Públicas de Medellín -EPM
 :geo:0,0
END:VEVENT
END:VCALENDAR