BEGIN:VCALENDAR
VERSION:2.0
PRODID:-//wp-events-plugin.com//7.1.2//EN
BEGIN:VEVENT
UID:13@ccecol.org
DTSTART:20260417T120000Z
DTEND:20260417T170000Z
DTSTAMP:20260414T224115Z
URL:https://ccecol.org/events/72-encuentro-del-comite-de-cumplimiento-empr
 esarial-colombiano-ccec/
SUMMARY:72° Encuentro del Comité de Cumplimiento Empresarial Colombiano -
  CCEC
DESCRIPTION:[wpforms id="1550"]\n\nContinuamos el 2026 con la mejor ingenie
 ría. Nos vemos en nuestro segundo encuentro del año\, con Estudio de Mod
 a como el anfitrión de lujo que marcará el ritmo de esta temporada. ¡N
 o faltes!"\n\nSi te inscribes presencial recuerda enviarnos copia de tu AR
 L a info@ccecol.org\n\n&nbsp\;\n\n&nbsp\;\n\nRegistro a partir: 7:00 AM \
 n\n\n\n&nbsp\;\n El registro al evento está limitado a un máximo de 2 as
 istentes presenciales\, para la modalidad virtual se permitirán hasta 5 a
 sistentes por empresa. \n¡Lo esperamos!\n&nbsp\;\nSi usted es asistente e
 n modalidad virtual\, el enlace será enviado un día antes del encuentro.
 \n\n\n&nbsp\;\n\nEste contenido es solamente para miembros del Comité de 
 Cumplimiento Empresarial Colombiano CCEC.\n\n\n\n&nbsp\;
ATTACH;FMTTYPE=image/jpeg:https://i0.wp.com/ccecol.org/wp-content/uploads/
 2026/04/Post-72%C2%B0-Encuentro-CCEC.png?fit=1200%2C500&ssl=1
LOCATION:35 Palms\, Carrera 35 # 15B-143 Piso 9\, Medellin\, Antioquia\, Co
 lombia
X-APPLE-STRUCTURED-LOCATION;VALUE=URI;X-ADDRESS=Carrera 35 # 15B-143 Piso 9
 \, Medellin\, Antioquia\, Colombia;X-APPLE-RADIUS=100;X-TITLE=35 Palms:geo
 :0,0
END:VEVENT
END:VCALENDAR