BEGIN:VCALENDAR
VERSION:2.0
PRODID:-//wp-events-plugin.com//7.1.2//EN
BEGIN:VEVENT
UID:12@ccecol.org
DTSTART:20260220T120000Z
DTEND:20260220T170000Z
DTSTAMP:20260202T135903Z
URL:https://ccecol.org/events/71-encuentro-del-comite-de-cumplimiento-empr
 esarial-colombiano-ccec/
SUMMARY:71° Encuentro del Comité de Cumplimiento Empresarial Colombiano -
  CCEC
DESCRIPTION:[wpforms id="1520"]\n\nArrancamos el 2026 con la mejor ingenier
 ía. Nos vemos en nuestro primer encuentro del año\, con Yamaha como el
  anfitrión de lujo que marcará el ritmo de esta temporada. ¡No faltes!"
 \n\nSi te inscribes presencial recuerda enviarnos copia de tu ARL a info@c
 cecol.org\n\n&nbsp\;\n\n&nbsp\;\n\nRegistro a partir: 7:00 AM \n\n\n\n&nb
 sp\;\n El registro al evento está limitado a un máximo de 2 asistentes p
 resenciales\, para la modalidad virtual se permitirán hasta 5 asistentes 
 por empresa. \n¡Lo esperamos!\n&nbsp\;\nSi usted es asistente en modalida
 d virtual\, el enlace será enviado un día antes del encuentro.\n\n\n&nbs
 p\;\n\nEste contenido es solamente para miembros del Comité de Cumplimien
 to Empresarial Colombiano CCEC.\n\n\n\n&nbsp\;
ATTACH;FMTTYPE=image/jpeg:https://i0.wp.com/ccecol.org/wp-content/uploads/
 2026/02/Encuentro-CCEC-71-1.png?fit=1200%2C500&ssl=1
LOCATION:Incolmotos Yamaha\, Km 20\, Autopista Norte\, Costado Oriental\, V
 ía Girardota.\, Girardota\, Publicada\, Antioquia\, Colombia
X-APPLE-STRUCTURED-LOCATION;VALUE=URI;X-ADDRESS=Km 20\, Autopista Norte\, C
 ostado Oriental\, Vía Girardota.\, Girardota\, Publicada\, Antioquia\, Co
 lombia;X-APPLE-RADIUS=100;X-TITLE=Incolmotos Yamaha:geo:0,0
END:VEVENT
END:VCALENDAR