BEGIN:VCALENDAR
VERSION:2.0
PRODID:-//wp-events-plugin.com//7.1.2//EN
BEGIN:VEVENT
UID:11@ccecol.org
DTSTART:20251205T120000Z
DTEND:20251205T170000Z
DTSTAMP:20251120T173502Z
URL:https://ccecol.org/events/70-encuentro-del-comite-de-cumplimiento-empr
 esarial-colombiano-ccec-2/
SUMMARY:70° Encuentro del Comité de Cumplimiento Empresarial Colombiano -
  CCEC
DESCRIPTION:[wpforms id="1352"]\n\nListos para el ultimo encuentro 2025\, n
 uestro anfitrión será Servicios Nutresa.\n\n&nbsp\;\n\n&nbsp\;\n\nRegist
 ro a partir: 7:00 AM \n\n\n\n&nbsp\;\n El registro al evento está limita
 do a un máximo de 2 asistentes presenciales\, para la modalidad virtual s
 e permitirán hasta 5 asistentes por empresa. \n¡Lo esperamos!\n&nbsp\;\n
 Si usted es asistente en modalidad virtual\, el enlace sera enviado un dí
 a antes del encuentro.\n\n\n&nbsp\;\n\nEste contenido es solamente para mi
 embros del Comité de Cumplimiento Empresarial Colombiano CCEC.\n\n\n\n&nb
 sp\;
ATTACH;FMTTYPE=image/jpeg:https://i0.wp.com/ccecol.org/wp-content/uploads/
 2025/11/Invitacion-encuentro-70.jpeg?fit=1200%2C500&ssl=1
LOCATION:Noel\, Carrera 52 # 2 - 3 8\, Medellín.\, Guayabal\, 050021\, Gua
 yabal\, Colombia
X-APPLE-STRUCTURED-LOCATION;VALUE=URI;X-ADDRESS=Carrera 52 # 2 - 3 8\, Mede
 llín.\, Guayabal\, 050021\, Guayabal\, Colombia;X-APPLE-RADIUS=100;X-TITL
 E=Noel:geo:0,0
END:VEVENT
END:VCALENDAR