BEGIN:VCALENDAR
VERSION:2.0
PRODID:-//wp-events-plugin.com//7.1.2//EN
BEGIN:VEVENT
UID:10@ccecol.org
DTSTART:20251024T123000Z
DTEND:20251024T170000Z
DTSTAMP:20251020T020446Z
URL:https://ccecol.org/events/69-encuentro-del-comite-de-cumplimiento-empr
 esarial-colombiano-ccec/
SUMMARY:69° Encuentro del Comité de Cumplimiento Empresarial Colombiano -
  CCEC
DESCRIPTION:[wpforms id="1336"]\n\nListos para el quinto encuentro 2025\, n
 uestro anfitrión será el CCEC.\n\nCiencias del comportamiento - Beatriz 
 Vallejo\n\nHerramientas de IA para la prevención de riesgos LAFT - STRADA
 TA\n\nRegistro a partir: 7:30 AM \n\n\n\n&nbsp\;\n El registro al evento 
 está limitado a un máximo de 2 asistentes presenciales\, para la modalid
 ad virtual se permitirán hasta 5 asistentes por empresa. \n¡Lo esperamos
 !\n&nbsp\;\nSi usted es asistente en modalidad virtual\, el enlace sera en
 viado un día antes del encuentro.\n\n\n&nbsp\;\n\nEste contenido es solam
 ente para miembros del Comité de Cumplimiento Empresarial Colombiano CCEC
 .\n\n\n\n&nbsp\;
ATTACH;FMTTYPE=image/jpeg:https://i0.wp.com/ccecol.org/wp-content/uploads/
 2025/10/WhatsApp-Image-2025-10-10-at-11.24.10-AM-2.jpeg?fit=1080%2C1080&ss
 l=1
LOCATION:Cámara de Comercio del Poblado\, Av. El Poblado #16a Sur-75 a\, C
 l 16A Sur #251\, Medellin\, Antioquia\, 050021\, El Poblado\, Colombia
X-APPLE-STRUCTURED-LOCATION;VALUE=URI;X-ADDRESS=Av. El Poblado #16a Sur-75 
 a\, Cl 16A Sur #251\, Medellin\, Antioquia\, 050021\, El Poblado\, Colombi
 a;X-APPLE-RADIUS=100;X-TITLE=Cámara de Comercio del Poblado:geo:0,0
END:VEVENT
END:VCALENDAR