BEGIN:VCALENDAR
VERSION:2.0
PRODID:-//wp-events-plugin.com//7.1.2//EN
BEGIN:VEVENT
UID:9@ccecol.org
DTSTART:20250822T120000Z
DTEND:20250822T170000Z
DTSTAMP:20250811T232535Z
URL:https://ccecol.org/events/68-encuentro-del-comite-de-cumplimiento-empr
 esarial-colombiano-ccec/
SUMMARY:68° Encuentro del Comité de Cumplimiento Empresarial Colombiano -
  CCEC
DESCRIPTION:[wpforms id="1319"]\n\nListos para el cuarto encuentro 2025\, n
 uestro anfitrión será CRYSTAL.\n\nTALLER JUEGO DE ROLES\n\nUIAF\n\nRegis
 tro a partir: 7:00 AM \n\n\n\n&nbsp\;\n El registro al evento está limit
 ado a un máximo de 2 asistentes presenciales\, para la modalidad virtual 
 se permitirán hasta 5 asistentes por empresa. \n¡Lo esperamos!\n&nbsp\;\
 nSi usted es asistente en modalidad virtual\, el enlace sera enviado un d
 ía antes del encuentro.\n\n\n&nbsp\;\n\nEste contenido es solamente para 
 miembros del Comité de Cumplimiento Empresarial Colombiano CCEC.\n\n\n\n&
 nbsp\;
ATTACH;FMTTYPE=image/jpeg:https://i0.wp.com/ccecol.org/wp-content/uploads/
 2025/08/WhatsApp-Image-2025-08-11-at-12.14.45-PM.jpeg?fit=1200%2C500&ssl=1
LOCATION:CRYSTAL S.A.S. SEDE 30\, Calle 29 # 43A-01\, Medellín.\, Antioqui
 a\, 050021\, El Poblado\, Colombia
X-APPLE-STRUCTURED-LOCATION;VALUE=URI;X-ADDRESS=Calle 29 # 43A-01\, Medell
 ín.\, Antioquia\, 050021\, El Poblado\, Colombia;X-APPLE-RADIUS=100;X-TIT
 LE=CRYSTAL S.A.S. SEDE 30:geo:0,0
END:VEVENT
END:VCALENDAR