BEGIN:VCALENDAR
VERSION:2.0
PRODID:-//wp-events-plugin.com//7.1.2//EN
BEGIN:VEVENT
UID:8@ccecol.org
DTSTART:20250620T120000Z
DTEND:20250620T170000Z
DTSTAMP:20250610T191628Z
URL:https://ccecol.org/events/67-encuentro-del-comite-de-cumplimiento-empr
 esarial-colombiano-ccec-2/
SUMMARY:67° Encuentro del Comité de Cumplimiento Empresarial Colombiano -
  CCEC
DESCRIPTION:[wpforms id="1302"]\n\nListos para el tercer encuentro 2025\, n
 uestro anfitrión será KONECTA.\n\nIniciaremos con una agenda de lujo con
  la participación de:\n\nDr. Alexander Garzón\n\nDoctor en Administraci
 ón Estratégica\n\n Conferencia: Liderazgo Autentico y Cumplimiento\n\n&n
 bsp\;\n\nMilena Mendoza\n\nEPM\n\n Conferencia: Debida Diligencia\n\n&nbsp
 \;\n\nJaneth Garcia Marín.\n\nAnalista de la Sección de Análisis Crimi
 nal de la Fiscalía General de la Nación\n\nConferencia: Ciberseguridad\n
 \n&nbsp\;\n\nConferencia:\n\nRegistro a partir: 7:00 AM \n\n\n\n[restrict
  level="subscriber"]\n El registro al evento está limitado a un máximo d
 e 2 asistentes presenciales\, para la modalidad virtual se permitirán has
 ta 5 asistentes por empresa. \n¡Lo esperamos!\n[wpforms id="1141"]\n\n&nb
 sp\;\nSi usted es asistente en modalidad virtual\, acceda dando clic a la 
 imagen de Teams.\n\n\n&nbsp\;\n\n[/restrict]\n\n[restrict level="!subscrib
 er"]\nEste contenido es solamente para miembros del Comité de Cumplimient
 o Empresarial Colombiano CCEC.\n\n\n[/restrict]\n\n&nbsp\;
ATTACH;FMTTYPE=image/jpeg:https://i0.wp.com/ccecol.org/wp-content/uploads/
 2025/06/WhatsApp-Image-2025-06-09-at-2.19.03-PM.jpeg?fit=1200%2C500&ssl=1
LOCATION:Centro Empresarial Puerto Seco.\, Calle 8B # 65-237\,  Medellín.\
 , Antioquia\, Guayabal\, Colombia
X-APPLE-STRUCTURED-LOCATION;VALUE=URI;X-ADDRESS=Calle 8B # 65-237\,  Medell
 ín.\, Antioquia\, Guayabal\, Colombia;X-APPLE-RADIUS=100;X-TITLE=Centro E
 mpresarial Puerto Seco.:geo:0,0
END:VEVENT
END:VCALENDAR