BEGIN:VCALENDAR
VERSION:2.0
PRODID:-//wp-events-plugin.com//7.1.2//EN
BEGIN:VEVENT
UID:7@ccecol.org
DTSTART:20250425T120000Z
DTEND:20250425T170000Z
DTSTAMP:20250610T191325Z
URL:https://ccecol.org/events/66-encuentro-del-comite-de-cumplimiento-empr
 esarial-colombiano-ccec/
SUMMARY:66° Encuentro del Comité de Cumplimiento Empresarial Colombiano 
 – CCEC
DESCRIPTION:[wpforms id="1141"]\n\nListos para el segundo encuentro 2025\, 
 nuestro anfitrión será John Uribe.Iniciaremos con una agenda de lujo con
  la participación de:Dr Andrés Aguirre MartínezEx Director General del 
 Hospital Pablo Tobón UribeCapacitación: Epéktasis: cómo ser más human
 os y en el que trato el tema de la ética y los valores\, como elementos e
 senciales para la construcción de futuro.Jaime GalavisSuperintendencia de
  SociedadesCapacitación: Informe de SostenibilidadRegistro a partir: 7:00
  AM 
ATTACH;FMTTYPE=image/jpeg:https://i0.wp.com/ccecol.org/wp-content/uploads/
 2025/04/WhatsApp-Image-2025-04-09-at-10.53.21-AM.jpeg?fit=1200%2C500&ssl=1
LOCATION:Cámara de Comercio del Poblado\, Av. El Poblado #16a Sur-75 a\, C
 l 16A Sur #251\, Medellin\, Antioquia\, 050021\, El Poblado\, Colombia
X-APPLE-STRUCTURED-LOCATION;VALUE=URI;X-ADDRESS=Av. El Poblado #16a Sur-75 
 a\, Cl 16A Sur #251\, Medellin\, Antioquia\, 050021\, El Poblado\, Colombi
 a;X-APPLE-RADIUS=100;X-TITLE=Cámara de Comercio del Poblado:geo:0,0
END:VEVENT
END:VCALENDAR