BEGIN:VCALENDAR
VERSION:2.0
PRODID:-//wp-events-plugin.com//7.1.2//EN
BEGIN:VEVENT
UID:3@ccecol.org
DTSTART:20250306T120000Z
DTEND:20250306T170000Z
DTSTAMP:20250305T142128Z
URL:https://ccecol.org/events/65-encuentro-del-comite-de-cumplimiento-empr
 esarial-colombiano-ccec/
SUMMARY:65° Encuentro del Comité de Cumplimiento Empresarial Colombiano -
  CCEC
DESCRIPTION:Listos para el primer encuentro 2025\, nuestro anfitrión será
  TIGO.\n\nIniciaremos con una agenda de lujo con la participación de:\n\n
 Clara Rodríguez \n\nProfesional de finanzas y gestión de Riesgos en EPM
 \n\n Conferencia: Gobierno Riesgo y Cumplimiento la experiencia de EPM en 
 la implementación de Gestión Normativa.\n\nLina Velásquez\n\nCeo &amp\;
  Cofounder de Ethicus\, una firma boutique que se encarga de diseñar e im
 plementar estrategias de ética y cumplimiento bajo un enfoque comportamen
 tal.\n\nConferencia:\n\nRegistro a partir: 7:00 AM \n\n\n\n[restrict leve
 l="subscriber"]\n El registro al evento está limitado a un máximo de 2 a
 sistentes presenciales\, para la modalidad virtual se permitirán hasta 5 
 asistentes por empresa. \n¡Lo esperamos!\n[wpforms id="1141"]\n\n&nbsp\;\
 nSi usted es asistente en modalidad virtual\, acceda dando clic a la image
 n de Teams.\n\n\n&nbsp\;\n\n[/restrict]\n\n[restrict level="!subscriber"]\
 nEste contenido es solamente para miembros del Comité de Cumplimiento Emp
 resarial Colombiano CCEC.\n\n\n[/restrict]\n\n&nbsp\;
LOCATION:Oficinas TIGO\, Cra. 48 #20-45\, El Poblado\, Medellín\, Medellin
 \, Colombia
X-APPLE-STRUCTURED-LOCATION;VALUE=URI;X-ADDRESS=Cra. 48 #20-45\, El Poblado
 \, Medellín\, Medellin\, Colombia;X-APPLE-RADIUS=100;X-TITLE=Oficinas TIG
 O:geo:0,0
END:VEVENT
END:VCALENDAR